BEGIN:VCALENDAR
VERSION:2.0
PRODID:-//Shellharbour Community Church - ECPv6.15.12.2//NONSGML v1.0//EN
CALSCALE:GREGORIAN
METHOD:PUBLISH
X-WR-CALNAME:Shellharbour Community Church
X-ORIGINAL-URL:https://shellharbourcc.org.au
X-WR-CALDESC:Events for Shellharbour Community Church
REFRESH-INTERVAL;VALUE=DURATION:PT1H
X-Robots-Tag:noindex
X-PUBLISHED-TTL:PT1H
BEGIN:VTIMEZONE
TZID:Australia/Sydney
BEGIN:STANDARD
TZOFFSETFROM:+1100
TZOFFSETTO:+1000
TZNAME:AEST
DTSTART:20250405T160000
END:STANDARD
BEGIN:DAYLIGHT
TZOFFSETFROM:+1000
TZOFFSETTO:+1100
TZNAME:AEDT
DTSTART:20251004T160000
END:DAYLIGHT
BEGIN:STANDARD
TZOFFSETFROM:+1100
TZOFFSETTO:+1000
TZNAME:AEST
DTSTART:20260404T160000
END:STANDARD
BEGIN:DAYLIGHT
TZOFFSETFROM:+1000
TZOFFSETTO:+1100
TZNAME:AEDT
DTSTART:20261003T160000
END:DAYLIGHT
BEGIN:STANDARD
TZOFFSETFROM:+1100
TZOFFSETTO:+1000
TZNAME:AEST
DTSTART:20270403T160000
END:STANDARD
BEGIN:DAYLIGHT
TZOFFSETFROM:+1000
TZOFFSETTO:+1100
TZNAME:AEDT
DTSTART:20271002T160000
END:DAYLIGHT
END:VTIMEZONE
BEGIN:VEVENT
DTSTART;TZID=Australia/Sydney:20260417T170000
DTEND;TZID=Australia/Sydney:20260419T120000
DTSTAMP:20260419T233130
CREATED:20260310T051253Z
LAST-MODIFIED:20260311T050107Z
UID:10003753-1776445200-1776600000@shellharbourcc.org.au
SUMMARY:New Culture Youth Camp 2025
DESCRIPTION:Here are all the details for NEW CULTURE YOUTH CAMP 2026! We’re joining with other ministries across the state for another epic camp\, but this time we’re changing things up with a brand new location! \nHere’s all the headline details… \n17-19th April 2026 \nCRU Lake Mac (approx. 3 hour drive north) \n$220 – IF you register BEFORE 22nd of March and use our discount code DY50 \nGet ready for – cabins\, catered food\, games\, tribal wars\, praise and worship\, amazing messages\, lots of time to child with friends\, maybe (probably) one of the greatest weekends of your life! \nRego Link & More Info – https://shlhbr.cc/youthcamp2026 \nCAR POOLING DETAILS \nParents are more than welcome to drive their own youth! \nIf they would like their youth to be transported\, we will meet at the church on the Friday arvo and youth will car pool up with leaders. \nParents\, please sign this permission slip for any youth who will be car pooling (you can indicate driver preferences) –  https://shlhbr.cc/carpool \nAll youth being car pooled are asked to bring $20 cash to contribute to petrol money\, plus either packed food or money to buy food on the way. \nWe are absolutely hyped for camp! We’ve seen time and time again how God impacts our life in profound ways when we take time aside to spend with Him and a great community. \nEmail info@shellharbourcc.org.au with any questions.
URL:https://shellharbourcc.org.au/event/new-culture-youth-camp-2025/
LOCATION:CRU Lake Mac\, 40 Yarrawonga Park Rd\, Balcolyn\, NSW\, Australia
ATTACH;FMTTYPE=image/jpeg:https://shellharbourcc.org.au/wp-content/uploads/2026/03/Black-Pink-Grunge-Coming-Soon-Instagram-Post-Presentation.jpg
END:VEVENT
BEGIN:VEVENT
DTSTART;TZID=Australia/Sydney:20260419T093000
DTEND;TZID=Australia/Sydney:20260419T103000
DTSTAMP:20260419T233130
CREATED:20240827T050750Z
LAST-MODIFIED:20240827T050750Z
UID:10001176-1776591000-1776594600@shellharbourcc.org.au
SUMMARY:Sunday Morning Service
DESCRIPTION:Join us for our Sunday service! Each Sunday morning we have praise and worship\, communion and a sermon\, followed by time together as a community. Children are invited to join Explosion Kidz after praise and worship. We would love to have you come!
URL:https://shellharbourcc.org.au/event/sunday-morning-service/2026-04-19/
LOCATION:Shellharbour Community Church\, 500 Shellharbour Rd\, Shellharbour\, NSW\, 2529\, Australia
END:VEVENT
BEGIN:VEVENT
DTSTART;TZID=Australia/Sydney:20260419T173000
DTEND;TZID=Australia/Sydney:20260419T183000
DTSTAMP:20260419T233130
CREATED:20240827T051250Z
LAST-MODIFIED:20240827T051453Z
UID:10001432-1776619800-1776623400@shellharbourcc.org.au
SUMMARY:fivethirtychurch
DESCRIPTION:Each week in our evening service we have praise and worship\, communion and a message\, followed by time together as a community. We would love to have you join!
URL:https://shellharbourcc.org.au/event/fivethirtychurch/2026-04-19/
LOCATION:Shellharbour Community Church\, 500 Shellharbour Rd\, Shellharbour\, NSW\, 2529\, Australia
ATTACH;FMTTYPE=image/jpeg:https://shellharbourcc.org.au/wp-content/uploads/2024/08/Welcome-Home-scaled.jpg
END:VEVENT
BEGIN:VEVENT
DTSTART;TZID=Australia/Sydney:20260420T093000
DTEND;TZID=Australia/Sydney:20260420T110000
DTSTAMP:20260419T233130
CREATED:20250106T015314Z
LAST-MODIFIED:20260106T051308Z
UID:10003442-1776677400-1776682800@shellharbourcc.org.au
SUMMARY:Playgroup
DESCRIPTION:Join us for playgroup each Monday of the school term! For more information head here.
URL:https://shellharbourcc.org.au/event/playgroup-2/2026-04-20/
LOCATION:Shellharbour Community Church\, 500 Shellharbour Rd\, Shellharbour\, NSW\, 2529\, Australia
ATTACH;FMTTYPE=image/png:https://shellharbourcc.org.au/wp-content/uploads/2024/08/Playgroup-Header-for-Web.png
END:VEVENT
BEGIN:VEVENT
DTSTART;TZID=Australia/Sydney:20260421T173000
DTEND;TZID=Australia/Sydney:20260421T183000
DTSTAMP:20260419T233130
CREATED:20240611T073645Z
LAST-MODIFIED:20240730T054639Z
UID:10000843-1776792600-1776796200@shellharbourcc.org.au
SUMMARY:Prayer Meeting
DESCRIPTION:Join us for prayer each Tuesday of the school term. The prayer meeting is the engine room of our local church. We hope to see you there!
URL:https://shellharbourcc.org.au/event/prayer-meeting/2026-04-21/
LOCATION:Shellharbour Community Church\, 500 Shellharbour Rd\, Shellharbour\, NSW\, 2529\, Australia
ATTACH;FMTTYPE=image/jpeg:https://shellharbourcc.org.au/wp-content/uploads/2024/06/Prayer-Meeting-1-scaled.jpg
END:VEVENT
BEGIN:VEVENT
DTSTART;TZID=Australia/Sydney:20260423T093000
DTEND;TZID=Australia/Sydney:20260423T123000
DTSTAMP:20260419T233130
CREATED:20260130T030316Z
LAST-MODIFIED:20260130T030317Z
UID:10003471-1776936600-1776947400@shellharbourcc.org.au
SUMMARY:FoodCare
DESCRIPTION:We provide low cost groceries to low income families every Thursday and Friday. For information head here.
URL:https://shellharbourcc.org.au/event/foodcare-3-2/2026-04-23/
ATTACH;FMTTYPE=application/pdf:https://shellharbourcc.org.au/wp-content/uploads/2025/01/Foodcare-Logo.pdf
END:VEVENT
BEGIN:VEVENT
DTSTART;TZID=Australia/Sydney:20260424T100000
DTEND;TZID=Australia/Sydney:20260424T120000
DTSTAMP:20260419T233130
CREATED:20250106T020037Z
LAST-MODIFIED:20260106T011037Z
UID:10002512-1777024800-1777032000@shellharbourcc.org.au
SUMMARY:FoodCare
DESCRIPTION:We provide low cost groceries to low income families every Thursday and Friday. For information head here.
URL:https://shellharbourcc.org.au/event/foodcare-4/2026-04-24/
LOCATION:Shellharbour Community Church\, 500 Shellharbour Rd\, Shellharbour\, NSW\, 2529\, Australia
ATTACH;FMTTYPE=image/jpeg:https://shellharbourcc.org.au/wp-content/uploads/2019/03/foodcare.jpg
END:VEVENT
BEGIN:VEVENT
DTSTART;TZID=Australia/Sydney:20260424T183000
DTEND;TZID=Australia/Sydney:20260424T210000
DTSTAMP:20260419T233130
CREATED:20260106T051552Z
LAST-MODIFIED:20260106T051552Z
UID:10003044-1777055400-1777064400@shellharbourcc.org.au
SUMMARY:Dominion Youth
DESCRIPTION:Students in years 6-12 are invited to join us for Dominion Youth each Friday of the school term. Check out @dominionyouth on Instagram to find out what we’re doing each week. We are a community of young people who come together to have fun\, worship Jesus and explore the big questions of life and meaning!
URL:https://shellharbourcc.org.au/event/dominion-youth/2026-04-24/
LOCATION:Shellharbour Community Church\, 500 Shellharbour Rd\, Shellharbour\, NSW\, 2529\, Australia
ATTACH;FMTTYPE=image/png:https://shellharbourcc.org.au/wp-content/uploads/2024/06/01_DY_Logo_Horizontal_RGB.png
END:VEVENT
BEGIN:VEVENT
DTSTART;TZID=Australia/Sydney:20260426T093000
DTEND;TZID=Australia/Sydney:20260426T103000
DTSTAMP:20260419T233130
CREATED:20240827T050750Z
LAST-MODIFIED:20240827T050750Z
UID:10001177-1777195800-1777199400@shellharbourcc.org.au
SUMMARY:Sunday Morning Service
DESCRIPTION:Join us for our Sunday service! Each Sunday morning we have praise and worship\, communion and a sermon\, followed by time together as a community. Children are invited to join Explosion Kidz after praise and worship. We would love to have you come!
URL:https://shellharbourcc.org.au/event/sunday-morning-service/2026-04-26/
LOCATION:Shellharbour Community Church\, 500 Shellharbour Rd\, Shellharbour\, NSW\, 2529\, Australia
END:VEVENT
BEGIN:VEVENT
DTSTART;TZID=Australia/Sydney:20260426T173000
DTEND;TZID=Australia/Sydney:20260426T183000
DTSTAMP:20260419T233130
CREATED:20240827T051250Z
LAST-MODIFIED:20240827T051453Z
UID:10001433-1777224600-1777228200@shellharbourcc.org.au
SUMMARY:fivethirtychurch
DESCRIPTION:Each week in our evening service we have praise and worship\, communion and a message\, followed by time together as a community. We would love to have you join!
URL:https://shellharbourcc.org.au/event/fivethirtychurch/2026-04-26/
LOCATION:Shellharbour Community Church\, 500 Shellharbour Rd\, Shellharbour\, NSW\, 2529\, Australia
ATTACH;FMTTYPE=image/jpeg:https://shellharbourcc.org.au/wp-content/uploads/2024/08/Welcome-Home-scaled.jpg
END:VEVENT
BEGIN:VEVENT
DTSTART;TZID=Australia/Sydney:20260427T093000
DTEND;TZID=Australia/Sydney:20260427T110000
DTSTAMP:20260419T233130
CREATED:20250106T015314Z
LAST-MODIFIED:20260106T051308Z
UID:10002777-1777282200-1777287600@shellharbourcc.org.au
SUMMARY:Playgroup
DESCRIPTION:Join us for playgroup each Monday of the school term! For more information head here.
URL:https://shellharbourcc.org.au/event/playgroup-2/2026-04-27/
LOCATION:Shellharbour Community Church\, 500 Shellharbour Rd\, Shellharbour\, NSW\, 2529\, Australia
ATTACH;FMTTYPE=image/png:https://shellharbourcc.org.au/wp-content/uploads/2024/08/Playgroup-Header-for-Web.png
END:VEVENT
BEGIN:VEVENT
DTSTART;TZID=Australia/Sydney:20260428T173000
DTEND;TZID=Australia/Sydney:20260428T183000
DTSTAMP:20260419T233130
CREATED:20240611T073645Z
LAST-MODIFIED:20240730T054639Z
UID:10000844-1777397400-1777401000@shellharbourcc.org.au
SUMMARY:Prayer Meeting
DESCRIPTION:Join us for prayer each Tuesday of the school term. The prayer meeting is the engine room of our local church. We hope to see you there!
URL:https://shellharbourcc.org.au/event/prayer-meeting/2026-04-28/
LOCATION:Shellharbour Community Church\, 500 Shellharbour Rd\, Shellharbour\, NSW\, 2529\, Australia
ATTACH;FMTTYPE=image/jpeg:https://shellharbourcc.org.au/wp-content/uploads/2024/06/Prayer-Meeting-1-scaled.jpg
END:VEVENT
BEGIN:VEVENT
DTSTART;TZID=Australia/Sydney:20260430T093000
DTEND;TZID=Australia/Sydney:20260430T123000
DTSTAMP:20260419T233130
CREATED:20260130T030316Z
LAST-MODIFIED:20260130T030317Z
UID:10003472-1777541400-1777552200@shellharbourcc.org.au
SUMMARY:FoodCare
DESCRIPTION:We provide low cost groceries to low income families every Thursday and Friday. For information head here.
URL:https://shellharbourcc.org.au/event/foodcare-3-2/2026-04-30/
ATTACH;FMTTYPE=application/pdf:https://shellharbourcc.org.au/wp-content/uploads/2025/01/Foodcare-Logo.pdf
END:VEVENT
END:VCALENDAR